Package: rTRMui Version: 1.40.0 Command: rm -rf rTRMui.buildbin-libdir && mkdir rTRMui.buildbin-libdir && /Users/biocbuild/BBS/utils/build-universal.sh rTRMui_1.40.0.tar.gz /Library/Frameworks/R.framework/Resources/bin/R rTRMui.buildbin-libdir StartedAt: 2024-04-16 12:37:52 -0400 (Tue, 16 Apr 2024) EndedAt: 2024-04-16 12:39:37 -0400 (Tue, 16 Apr 2024) EllapsedTime: 105.0 seconds RetCode: 0 Status: OK PackageFile: rTRMui_1.40.0.tgz PackageFileSize: 833.9 KiB