Package: rTRMui Version: 1.40.0 Command: /Library/Frameworks/R.framework/Resources/bin/R CMD check --install=check:rTRMui.install-out.txt --library=/Library/Frameworks/R.framework/Resources/library --no-vignettes --timings rTRMui_1.40.0.tar.gz StartedAt: 2024-04-16 08:13:08 -0400 (Tue, 16 Apr 2024) EndedAt: 2024-04-16 08:23:24 -0400 (Tue, 16 Apr 2024) EllapsedTime: 616.3 seconds RetCode: 0 Status: OK CheckDir: rTRMui.Rcheck Warnings: 0