Package: rTRMui Version: 1.40.0 Command: chmod a+r rTRMui -R && F:\biocbuild\bbs-3.18-bioc\R\bin\R.exe CMD build --keep-empty-dirs --no-resave-data rTRMui StartedAt: 2024-04-15 20:50:48 -0400 (Mon, 15 Apr 2024) EndedAt: 2024-04-15 20:52:01 -0400 (Mon, 15 Apr 2024) EllapsedTime: 73.4 seconds RetCode: 0 Status: OK PackageFile: rTRMui_1.40.0.tar.gz PackageFileSize: 1.019 MiB