Package: rWikiPathways Version: 1.22.1 Command: /home/biocbuild/R/R-4.3.1/bin/R CMD build --keep-empty-dirs --no-resave-data rWikiPathways StartedAt: 2023-11-02 05:37:56 -0000 (Thu, 02 Nov 2023) EndedAt: 2023-11-02 05:38:11 -0000 (Thu, 02 Nov 2023) EllapsedTime: 15.0 seconds RetCode: 0 Status: OK PackageFile: rWikiPathways_1.22.1.tar.gz PackageFileSize: 10.65 MiB