Package: rWikiPathways Version: 1.22.1 Command: /home/biocbuild/R/R-4.3.1/bin/R CMD check --install=check:rWikiPathways.install-out.txt --library=/home/biocbuild/R/R-4.3.1/site-library --no-vignettes --timings rWikiPathways_1.22.1.tar.gz StartedAt: 2023-11-02 13:59:59 -0000 (Thu, 02 Nov 2023) EndedAt: 2023-11-02 14:04:44 -0000 (Thu, 02 Nov 2023) EllapsedTime: 284.5 seconds RetCode: 0 Status: OK CheckDir: rWikiPathways.Rcheck Warnings: 0