Package: rWikiPathways Version: 1.22.1 Command: rm -rf rWikiPathways.buildbin-libdir && mkdir rWikiPathways.buildbin-libdir && /Users/biocbuild/BBS/utils/build-universal.sh rWikiPathways_1.22.1.tar.gz /Library/Frameworks/R.framework/Resources/bin/R rWikiPathways.buildbin-libdir StartedAt: 2024-04-16 12:38:04 -0400 (Tue, 16 Apr 2024) EndedAt: 2024-04-16 12:38:20 -0400 (Tue, 16 Apr 2024) EllapsedTime: 16.1 seconds RetCode: 0 Status: OK PackageFile: rWikiPathways_1.22.1.tgz PackageFileSize: 2.863 MiB