Package: rcellminer Version: 2.24.0 Command: /home/biocbuild/R/R-4.3.1/bin/R CMD build --keep-empty-dirs --no-resave-data rcellminer StartedAt: 2023-11-02 04:59:39 -0000 (Thu, 02 Nov 2023) EndedAt: 2023-11-02 05:02:48 -0000 (Thu, 02 Nov 2023) EllapsedTime: 188.3 seconds RetCode: 0 Status: OK PackageFile: rcellminer_2.24.0.tar.gz PackageFileSize: 2.318 MiB