Package: rcellminer Version: 2.24.0 Command: rm -rf rcellminer.buildbin-libdir && mkdir rcellminer.buildbin-libdir && /Users/biocbuild/BBS/utils/build-universal.sh rcellminer_2.24.0.tar.gz /Library/Frameworks/R.framework/Resources/bin/R rcellminer.buildbin-libdir StartedAt: 2024-04-16 12:30:31 -0400 (Tue, 16 Apr 2024) EndedAt: 2024-04-16 12:30:49 -0400 (Tue, 16 Apr 2024) EllapsedTime: 18.3 seconds RetCode: 0 Status: OK PackageFile: rcellminer_2.24.0.tgz PackageFileSize: 2.896 MiB