Package: rcellminer Version: 2.24.0 Command: chmod a+r rcellminer -R && F:\biocbuild\bbs-3.18-bioc\R\bin\R.exe CMD build --keep-empty-dirs --no-resave-data rcellminer StartedAt: 2024-04-15 20:35:47 -0400 (Mon, 15 Apr 2024) EndedAt: 2024-04-15 20:38:35 -0400 (Mon, 15 Apr 2024) EllapsedTime: 168.0 seconds RetCode: 0 Status: OK PackageFile: rcellminer_2.24.0.tar.gz PackageFileSize: 706.1 KiB