Package: recount Version: 1.28.0 Command: /home/biocbuild/bbs-3.18-bioc/R/bin/R CMD INSTALL recount StartedAt: 2024-04-15 15:28:43 -0400 (Mon, 15 Apr 2024) EndedAt: 2024-04-15 15:29:56 -0400 (Mon, 15 Apr 2024) EllapsedTime: 73.4 seconds RetCode: 0 Status: OK