Package: recountmethylation Version: 1.12.0 Command: /home/biocbuild/R/R-4.3.1/bin/R CMD check --install=check:recountmethylation.install-out.txt --library=/home/biocbuild/R/R-4.3.1/site-library --no-vignettes --timings recountmethylation_1.12.0.tar.gz StartedAt: 2023-11-02 13:33:17 -0000 (Thu, 02 Nov 2023) EndedAt: 2023-11-02 13:35:49 -0000 (Thu, 02 Nov 2023) EllapsedTime: 152.3 seconds RetCode: 0 Status: OK CheckDir: recountmethylation.Rcheck Warnings: 0