Package: recountmethylation Version: 1.12.0 Command: rm -rf recountmethylation.buildbin-libdir && mkdir recountmethylation.buildbin-libdir && /Users/biocbuild/BBS/utils/build-universal.sh recountmethylation_1.12.0.tar.gz /Library/Frameworks/R.framework/Resources/bin/R recountmethylation.buildbin-libdir StartedAt: 2024-03-04 00:59:00 -0500 (Mon, 04 Mar 2024) EndedAt: 2024-03-04 00:59:08 -0500 (Mon, 04 Mar 2024) EllapsedTime: 8.0 seconds RetCode: 0 Status: OK PackageFile: recountmethylation_1.12.0.tgz PackageFileSize: 4.747 MiB