Package: recountmethylation Version: 1.12.0 Command: /Library/Frameworks/R.framework/Resources/bin/R CMD INSTALL recountmethylation StartedAt: 2024-03-03 15:41:41 -0500 (Sun, 03 Mar 2024) EndedAt: 2024-03-03 15:41:45 -0500 (Sun, 03 Mar 2024) EllapsedTime: 4.7 seconds RetCode: 0 Status: OK