Package: regionalpcs Version: 1.0.0 Command: /home/biocbuild/R/R-4.3.1/bin/R CMD build --keep-empty-dirs --no-resave-data regionalpcs StartedAt: 2023-11-02 05:04:40 -0000 (Thu, 02 Nov 2023) EndedAt: 2023-11-02 05:05:19 -0000 (Thu, 02 Nov 2023) EllapsedTime: 39.1 seconds RetCode: 0 Status: OK PackageFile: regionalpcs_1.0.0.tar.gz PackageFileSize: 495 KiB