Package: regionalpcs Version: 1.0.0 Command: /home/biocbuild/R/R-4.3.1/bin/R CMD INSTALL regionalpcs StartedAt: 2023-11-01 20:55:36 -0000 (Wed, 01 Nov 2023) EndedAt: 2023-11-01 20:55:38 -0000 (Wed, 01 Nov 2023) EllapsedTime: 2.2 seconds RetCode: 0 Status: OK