Package: regionalpcs Version: 1.0.0 Command: /Library/Frameworks/R.framework/Resources/bin/R CMD build --keep-empty-dirs --no-resave-data regionalpcs StartedAt: 2024-04-15 21:13:05 -0400 (Mon, 15 Apr 2024) EndedAt: 2024-04-15 21:14:06 -0400 (Mon, 15 Apr 2024) EllapsedTime: 60.4 seconds RetCode: 0 Status: OK PackageFile: regionalpcs_1.0.0.tar.gz PackageFileSize: 469.9 KiB