Package: regionalpcs Version: 1.0.0 Command: /Library/Frameworks/R.framework/Resources/bin/R CMD INSTALL regionalpcs StartedAt: 2024-04-15 16:25:42 -0400 (Mon, 15 Apr 2024) EndedAt: 2024-04-15 16:25:46 -0400 (Mon, 15 Apr 2024) EllapsedTime: 4.2 seconds RetCode: 0 Status: OK