Package: regionalpcs Version: 1.0.0 Command: rm -rf regionalpcs.buildbin-libdir && mkdir regionalpcs.buildbin-libdir && F:\biocbuild\bbs-3.18-bioc\R\bin\R.exe CMD INSTALL --build --library=regionalpcs.buildbin-libdir regionalpcs_1.0.0.tar.gz StartedAt: 2024-04-16 07:31:52 -0400 (Tue, 16 Apr 2024) EndedAt: 2024-04-16 07:32:02 -0400 (Tue, 16 Apr 2024) EllapsedTime: 10.0 seconds RetCode: 0 Status: OK PackageFile: regionalpcs_1.0.0.zip PackageFileSize: 479.7 KiB