Package: regionalpcs Version: 1.0.0 Command: F:\biocbuild\bbs-3.18-bioc\R\bin\R.exe CMD check --no-multiarch --install=check:regionalpcs.install-out.txt --library=F:\biocbuild\bbs-3.18-bioc\R\library --no-vignettes --timings regionalpcs_1.0.0.tar.gz StartedAt: 2024-04-16 04:14:49 -0400 (Tue, 16 Apr 2024) EndedAt: 2024-04-16 04:15:35 -0400 (Tue, 16 Apr 2024) EllapsedTime: 45.6 seconds RetCode: 0 Status: OK CheckDir: regionalpcs.Rcheck Warnings: 0