Package: regioneReloaded Version: 1.4.0 Command: /Library/Frameworks/R.framework/Resources/bin/R CMD build --keep-empty-dirs --no-resave-data regioneReloaded StartedAt: 2024-04-15 21:13:43 -0400 (Mon, 15 Apr 2024) EndedAt: 2024-04-15 21:16:07 -0400 (Mon, 15 Apr 2024) EllapsedTime: 144.7 seconds RetCode: 0 Status: OK PackageFile: regioneReloaded_1.4.0.tar.gz PackageFileSize: 4.06 MiB