Package: regioneReloaded Version: 1.4.0 Command: /Library/Frameworks/R.framework/Resources/bin/R CMD INSTALL regioneReloaded StartedAt: 2024-04-15 15:35:40 -0400 (Mon, 15 Apr 2024) EndedAt: 2024-04-15 15:36:53 -0400 (Mon, 15 Apr 2024) EllapsedTime: 73.0 seconds RetCode: 0 Status: OK