Package: regsplice Version: 1.28.0 Command: /Library/Frameworks/R.framework/Resources/bin/R CMD build --keep-empty-dirs --no-resave-data regsplice StartedAt: 2024-03-03 17:59:09 -0500 (Sun, 03 Mar 2024) EndedAt: 2024-03-03 18:00:05 -0500 (Sun, 03 Mar 2024) EllapsedTime: 56.0 seconds RetCode: 0 Status: OK PackageFile: regsplice_1.28.0.tar.gz PackageFileSize: 287 KiB