Package: regsplice Version: 1.28.1 Command: /Library/Frameworks/R.framework/Resources/bin/R CMD build --keep-empty-dirs --no-resave-data regsplice StartedAt: 2024-04-15 21:14:06 -0400 (Mon, 15 Apr 2024) EndedAt: 2024-04-15 21:15:50 -0400 (Mon, 15 Apr 2024) EllapsedTime: 104.3 seconds RetCode: 0 Status: OK PackageFile: regsplice_1.28.1.tar.gz PackageFileSize: 287 KiB