Package: regsplice Version: 1.28.1 Command: /Library/Frameworks/R.framework/Resources/bin/R CMD check --install=check:regsplice.install-out.txt --library=/Library/Frameworks/R.framework/Resources/library --no-vignettes --timings regsplice_1.28.1.tar.gz StartedAt: 2024-04-16 07:38:08 -0400 (Tue, 16 Apr 2024) EndedAt: 2024-04-16 07:45:40 -0400 (Tue, 16 Apr 2024) EllapsedTime: 452.1 seconds RetCode: 0 Status: OK CheckDir: regsplice.Rcheck Warnings: 0