Package: rgoslin Version: 1.6.0 Maintainer: Nils Hoffmann MaintainerEmail: nils.hoffmann at cebitec.uni-bielefeld.de git_url: https://git.bioconductor.org/packages/rgoslin git_branch: RELEASE_3_18 git_last_commit: b8c81a5 git_last_commit_date: 2023-10-24 11:40:14 -0400 (Tue, 24 Oct 2023)