Package: rgoslin Version: 1.6.0 Command: /Library/Frameworks/R.framework/Resources/bin/R CMD INSTALL rgoslin StartedAt: 2024-03-03 15:43:57 -0500 (Sun, 03 Mar 2024) EndedAt: 2024-03-03 15:47:58 -0500 (Sun, 03 Mar 2024) EllapsedTime: 240.8 seconds RetCode: 0 Status: OK