Package: rgoslin Version: 1.6.0 Command: rm -rf rgoslin.buildbin-libdir && mkdir rgoslin.buildbin-libdir && F:\biocbuild\bbs-3.18-bioc\R\bin\R.exe CMD INSTALL --build --library=rgoslin.buildbin-libdir rgoslin_1.6.0.tar.gz StartedAt: 2024-04-16 07:32:51 -0400 (Tue, 16 Apr 2024) EndedAt: 2024-04-16 07:36:23 -0400 (Tue, 16 Apr 2024) EllapsedTime: 212.3 seconds RetCode: 0 Status: OK PackageFile: rgoslin_1.6.0.zip PackageFileSize: 1.218 MiB