Package: rhdf5 Version: 2.46.0 Command: /home/biocbuild/R/R-4.3.1/bin/R CMD build --keep-empty-dirs --no-resave-data rhdf5 StartedAt: 2023-11-02 05:13:20 -0000 (Thu, 02 Nov 2023) EndedAt: 2023-11-02 05:30:34 -0000 (Thu, 02 Nov 2023) EllapsedTime: 1033.6 seconds RetCode: 0 Status: OK PackageFile: rhdf5_2.46.0.tar.gz PackageFileSize: 1.322 MiB