Package: rhdf5 Version: 2.46.0 Command: /home/biocbuild/R/R-4.3.1/bin/R CMD check --install=check:rhdf5.install-out.txt --library=/home/biocbuild/R/R-4.3.1/site-library --no-vignettes --timings rhdf5_2.46.0.tar.gz StartedAt: 2023-11-02 13:42:17 -0000 (Thu, 02 Nov 2023) EndedAt: 2023-11-02 13:43:01 -0000 (Thu, 02 Nov 2023) EllapsedTime: 44.2 seconds RetCode: 0 Status: WARNINGS CheckDir: rhdf5.Rcheck Warnings: 1