Package: rhdf5 Version: 2.46.1 Command: /Library/Frameworks/R.framework/Resources/bin/R CMD check --install=check:rhdf5.install-out.txt --library=/Library/Frameworks/R.framework/Resources/library --no-vignettes --timings rhdf5_2.46.1.tar.gz StartedAt: 2024-03-03 22:58:06 -0500 (Sun, 03 Mar 2024) EndedAt: 2024-03-03 22:59:04 -0500 (Sun, 03 Mar 2024) EllapsedTime: 58.6 seconds RetCode: 0 Status: WARNINGS CheckDir: rhdf5.Rcheck Warnings: 1