Package: rhdf5 Version: 2.46.1 Command: /Library/Frameworks/R.framework/Resources/bin/R CMD INSTALL rhdf5 StartedAt: 2024-03-03 15:11:44 -0500 (Sun, 03 Mar 2024) EndedAt: 2024-03-03 15:12:07 -0500 (Sun, 03 Mar 2024) EllapsedTime: 23.9 seconds RetCode: 0 Status: OK