Package: rhdf5 Version: 2.46.1 Command: rm -rf rhdf5.buildbin-libdir && mkdir rhdf5.buildbin-libdir && /Users/biocbuild/BBS/utils/build-universal.sh rhdf5_2.46.1.tar.gz /Library/Frameworks/R.framework/Resources/bin/R rhdf5.buildbin-libdir StartedAt: 2024-04-16 12:33:08 -0400 (Tue, 16 Apr 2024) EndedAt: 2024-04-16 12:33:40 -0400 (Tue, 16 Apr 2024) EllapsedTime: 32.8 seconds RetCode: 0 Status: OK PackageFile: rhdf5_2.46.1.tgz PackageFileSize: 4.061 MiB