Package: rhdf5 Version: 2.46.1 Command: /Library/Frameworks/R.framework/Resources/bin/R CMD check --install=check:rhdf5.install-out.txt --library=/Library/Frameworks/R.framework/Resources/library --no-vignettes --timings rhdf5_2.46.1.tar.gz StartedAt: 2024-04-16 07:47:40 -0400 (Tue, 16 Apr 2024) EndedAt: 2024-04-16 07:49:17 -0400 (Tue, 16 Apr 2024) EllapsedTime: 97.5 seconds RetCode: 0 Status: WARNINGS CheckDir: rhdf5.Rcheck Warnings: 1