Package: rhdf5 Version: 2.46.1 Command: /Library/Frameworks/R.framework/Resources/bin/R CMD INSTALL rhdf5 StartedAt: 2024-04-15 15:12:56 -0400 (Mon, 15 Apr 2024) EndedAt: 2024-04-15 15:13:28 -0400 (Mon, 15 Apr 2024) EllapsedTime: 32.0 seconds RetCode: 0 Status: OK