Package: rhdf5 Version: 2.46.1 Command: /home/biocbuild/bbs-3.18-bioc/R/bin/R CMD build --keep-empty-dirs --no-resave-data rhdf5 StartedAt: 2024-04-15 18:49:50 -0400 (Mon, 15 Apr 2024) EndedAt: 2024-04-15 19:02:11 -0400 (Mon, 15 Apr 2024) EllapsedTime: 740.8 seconds RetCode: 0 Status: OK PackageFile: rhdf5_2.46.1.tar.gz PackageFileSize: 1.214 MiB