Package: rhdf5 Version: 2.46.1 Command: rm -rf rhdf5.buildbin-libdir && mkdir rhdf5.buildbin-libdir && F:\biocbuild\bbs-3.18-bioc\R\bin\R.exe CMD INSTALL --build --library=rhdf5.buildbin-libdir rhdf5_2.46.1.tar.gz StartedAt: 2024-04-16 07:33:03 -0400 (Tue, 16 Apr 2024) EndedAt: 2024-04-16 07:33:50 -0400 (Tue, 16 Apr 2024) EllapsedTime: 47.1 seconds RetCode: 0 Status: OK PackageFile: rhdf5_2.46.1.zip PackageFileSize: 4.352 MiB