Package: rhdf5 Version: 2.46.1 Command: chmod a+r rhdf5 -R && F:\biocbuild\bbs-3.18-bioc\R\bin\R.exe CMD build --keep-empty-dirs --no-resave-data rhdf5 StartedAt: 2024-04-15 20:41:12 -0400 (Mon, 15 Apr 2024) EndedAt: 2024-04-15 21:00:30 -0400 (Mon, 15 Apr 2024) EllapsedTime: 1158.0 seconds RetCode: 0 Status: OK PackageFile: rhdf5_2.46.1.tar.gz PackageFileSize: 1.204 MiB