Package: rhdf5client
Version: 1.24.0
Command: /home/biocbuild/bbs-3.18-bioc/R/bin/R CMD build --keep-empty-dirs --no-resave-data rhdf5client
StartedAt: 2024-04-15 18:49:59 -0400 (Mon, 15 Apr 2024)
EndedAt: 2024-04-15 18:50:33 -0400 (Mon, 15 Apr 2024)
EllapsedTime: 33.6 seconds
RetCode: 1
Status: ERROR
PackageFile: None
PackageFileSize: NA