Package: rifi Version: 1.6.0 Command: rm -rf rifi.buildbin-libdir && mkdir rifi.buildbin-libdir && /Users/biocbuild/BBS/utils/build-universal.sh rifi_1.6.0.tar.gz /Library/Frameworks/R.framework/Resources/bin/R rifi.buildbin-libdir StartedAt: 2024-04-16 12:33:40 -0400 (Tue, 16 Apr 2024) EndedAt: 2024-04-16 12:35:08 -0400 (Tue, 16 Apr 2024) EllapsedTime: 87.7 seconds RetCode: 0 Status: OK PackageFile: rifi_1.6.0.tgz PackageFileSize: 4.751 MiB