Package: rifi Version: 1.6.0 Command: /Library/Frameworks/R.framework/Resources/bin/R CMD build --keep-empty-dirs --no-resave-data rifi StartedAt: 2024-04-15 21:19:36 -0400 (Mon, 15 Apr 2024) EndedAt: 2024-04-15 21:22:55 -0400 (Mon, 15 Apr 2024) EllapsedTime: 198.6 seconds RetCode: 0 Status: OK PackageFile: rifi_1.6.0.tar.gz PackageFileSize: 7.196 MiB