Package: rifi Version: 1.6.0 Command: /home/biocbuild/bbs-3.18-bioc/R/bin/R CMD build --keep-empty-dirs --no-resave-data rifi StartedAt: 2024-04-15 18:51:27 -0400 (Mon, 15 Apr 2024) EndedAt: 2024-04-15 18:52:49 -0400 (Mon, 15 Apr 2024) EllapsedTime: 82.7 seconds RetCode: 0 Status: OK PackageFile: rifi_1.6.0.tar.gz PackageFileSize: 7.196 MiB