Package: rifiComparative Version: 1.2.0 Command: /home/biocbuild/R/R-4.3.1/bin/R CMD build --keep-empty-dirs --no-resave-data rifiComparative StartedAt: 2023-11-02 05:18:20 -0000 (Thu, 02 Nov 2023) EndedAt: 2023-11-02 05:26:50 -0000 (Thu, 02 Nov 2023) EllapsedTime: 510.0 seconds RetCode: 0 Status: OK PackageFile: rifiComparative_1.2.0.tar.gz PackageFileSize: 3.212 MiB