Package: rifiComparative Version: 1.2.0 Command: rm -rf rifiComparative.buildbin-libdir && mkdir rifiComparative.buildbin-libdir && /Users/biocbuild/BBS/utils/build-universal.sh rifiComparative_1.2.0.tar.gz /Library/Frameworks/R.framework/Resources/bin/R rifiComparative.buildbin-libdir StartedAt: 2024-03-04 01:00:05 -0500 (Mon, 04 Mar 2024) EndedAt: 2024-03-04 01:00:56 -0500 (Mon, 04 Mar 2024) EllapsedTime: 50.7 seconds RetCode: 0 Status: OK PackageFile: rifiComparative_1.2.0.tgz PackageFileSize: 2.431 MiB