Package: rifiComparative Version: 1.2.0 Command: /Library/Frameworks/R.framework/Resources/bin/R CMD check --install=check:rifiComparative.install-out.txt --library=/Library/Frameworks/R.framework/Resources/library --no-vignettes --timings rifiComparative_1.2.0.tar.gz StartedAt: 2024-03-03 22:59:07 -0500 (Sun, 03 Mar 2024) EndedAt: 2024-03-03 23:14:44 -0500 (Sun, 03 Mar 2024) EllapsedTime: 937.6 seconds RetCode: 0 Status: OK CheckDir: rifiComparative.Rcheck Warnings: 0