Package: rprimer Version: 1.6.0 Command: /Library/Frameworks/R.framework/Resources/bin/R CMD INSTALL rprimer StartedAt: 2024-04-15 15:59:46 -0400 (Mon, 15 Apr 2024) EndedAt: 2024-04-15 16:00:27 -0400 (Mon, 15 Apr 2024) EllapsedTime: 41.1 seconds RetCode: 0 Status: OK