Package: rpx Version: 2.10.0 Command: /home/biocbuild/R/R-4.3.1/bin/R CMD build --keep-empty-dirs --no-resave-data rpx StartedAt: 2023-11-02 05:32:29 -0000 (Thu, 02 Nov 2023) EndedAt: 2023-11-02 05:32:43 -0000 (Thu, 02 Nov 2023) EllapsedTime: 14.0 seconds RetCode: 1 Status: ERROR PackageFile: None PackageFileSize: NA