Package: rpx Version: 2.9.0 Command: /home/biocbuild/R/R-4.3.1/bin/R CMD check --install=check:rpx.install-out.txt --library=/home/biocbuild/R/R-4.3.1/site-library --timings rpx_2.9.0.tar.gz StartedAt: 2023-09-15 10:47:27 -0000 (Fri, 15 Sep 2023) EndedAt: 2023-09-15 10:50:58 -0000 (Fri, 15 Sep 2023) EllapsedTime: 210.4 seconds RetCode: 1 Status: ERROR CheckDir: rpx.Rcheck Warnings: NA