Package: rpx Version: 2.10.0 Command: rm -rf rpx.buildbin-libdir && mkdir rpx.buildbin-libdir && F:\biocbuild\bbs-3.18-bioc\R\bin\R.exe CMD INSTALL --build --library=rpx.buildbin-libdir rpx_2.10.0.tar.gz StartedAt: 2024-04-16 07:35:49 -0400 (Tue, 16 Apr 2024) EndedAt: 2024-04-16 07:36:05 -0400 (Tue, 16 Apr 2024) EllapsedTime: 16.2 seconds RetCode: 0 Status: OK PackageFile: rpx_2.10.0.zip PackageFileSize: 485.9 KiB