Package: rsbml Version: 2.60.0 Command: F:\biocbuild\bbs-3.18-bioc\R\bin\R.exe CMD check --no-multiarch --install=check:rsbml.install-out.txt --library=F:\biocbuild\bbs-3.18-bioc\R\library --no-vignettes --timings rsbml_2.60.0.tar.gz StartedAt: 2024-04-16 04:35:42 -0400 (Tue, 16 Apr 2024) EndedAt: 2024-04-16 04:41:58 -0400 (Tue, 16 Apr 2024) EllapsedTime: 375.8 seconds RetCode: 0 Status: WARNINGS CheckDir: rsbml.Rcheck Warnings: 2