Package: safe Version: 3.42.0 Command: /home/biocbuild/R/R-4.3.1/bin/R CMD build --keep-empty-dirs --no-resave-data safe StartedAt: 2023-11-02 05:38:15 -0000 (Thu, 02 Nov 2023) EndedAt: 2023-11-02 05:45:39 -0000 (Thu, 02 Nov 2023) EllapsedTime: 444.5 seconds RetCode: 1 Status: ERROR PackageFile: None PackageFileSize: NA